BEGIN:VCALENDAR
VERSION:2.0
PRODID:-//hacksw/handcal//NONSGML v1.0//EN
BEGIN:VEVENT
SUMMARY:Match championnat U13 1
UID:5a817384-a028-4793-acac-643de6e4c523
DTSTART:20260228T130000Z
DTEND:20260228T150000Z
LOCATION:Localisation   
CATEGORIES:Sportif
STATUS:
URL;VALUE=URI:https://fcbbg.sportsregions.fr/evenements/2026/02/28/match-championnat-u13-1-2422569
END:VEVENT
END:VCALENDAR
