BEGIN:VCALENDAR
VERSION:2.0
PRODID:-//hacksw/handcal//NONSGML v1.0//EN
BEGIN:VEVENT
SUMMARY:Match de championnat U17 1
UID:f5130133-dd8b-4d45-8ec7-00aa5d13bf2d
DTSTART:20260228T150000Z
DTEND:20260228T170000Z
LOCATION:Localisation   
CATEGORIES:Sportif
STATUS:
URL;VALUE=URI:https://fcbbg.sportsregions.fr/evenements/2026/02/28/match-de-championnat-u17-1-2422572
END:VEVENT
END:VCALENDAR
