BEGIN:VCALENDAR
VERSION:2.0
PRODID:-//hacksw/handcal//NONSGML v1.0//EN
BEGIN:VEVENT
SUMMARY:Match championnat U11
UID:4411d292-41f6-4007-9f77-bd66bfa635a4
DTSTART:20260307T130000Z
DTEND:20260307T150000Z
LOCATION:Localisation   
CATEGORIES:Sportif
STATUS:
URL;VALUE=URI:https://fcbbg.sportsregions.fr/evenements/2026/03/07/match-championnat-u11-2426559
END:VEVENT
END:VCALENDAR
