BEGIN:VCALENDAR
VERSION:2.0
PRODID:-//hacksw/handcal//NONSGML v1.0//EN
BEGIN:VEVENT
SUMMARY:Match championnat U13 1
UID:834ca84a-25d9-4c2a-8dc7-e08a47c57a16
DTSTART:20260307T090000Z
DTEND:20260307T110000Z
LOCATION:Localisation   
CATEGORIES:Sportif
STATUS:
URL;VALUE=URI:https://fcbbg.sportsregions.fr/evenements/2026/03/07/match-championnat-u13-1-2426560
END:VEVENT
END:VCALENDAR
