BEGIN:VCALENDAR
VERSION:2.0
PRODID:-//hacksw/handcal//NONSGML v1.0//EN
BEGIN:VEVENT
SUMMARY:Match championnat U13 2
UID:42b7d48a-e693-4b7c-8002-385c8f2181cf
DTSTART:20260307T130000Z
DTEND:20260307T150000Z
LOCATION:Localisation   
CATEGORIES:Sportif
STATUS:
URL;VALUE=URI:https://fcbbg.sportsregions.fr/evenements/2026/03/07/match-championnat-u13-2-2426562
END:VEVENT
END:VCALENDAR
