BEGIN:VCALENDAR
VERSION:2.0
PRODID:-//hacksw/handcal//NONSGML v1.0//EN
BEGIN:VEVENT
SUMMARY:Match de championnat U17 2
UID:8617b3f8-ebda-45d2-9f85-91f4eeb826db
DTSTART:20260307T143000Z
DTEND:20260307T163000Z
LOCATION:Localisation   
CATEGORIES:Sportif
STATUS:
URL;VALUE=URI:https://fcbbg.sportsregions.fr/evenements/2026/03/07/match-de-championnat-u17-2-2426567
END:VEVENT
END:VCALENDAR
