BEGIN:VCALENDAR
VERSION:2.0
PRODID:-//hacksw/handcal//NONSGML v1.0//EN
BEGIN:VEVENT
SUMMARY:Match de championnat U19
UID:54d027ec-0da4-4f1a-8b05-f5ea03dd8a77
DTSTART:20260308T130000Z
DTEND:20260308T150000Z
LOCATION:Localisation   
CATEGORIES:Sportif
STATUS:
URL;VALUE=URI:https://fcbbg.sportsregions.fr/evenements/2026/03/08/match-de-championnat-u19-2426569
END:VEVENT
END:VCALENDAR
