BEGIN:VCALENDAR
VERSION:2.0
PRODID:-//hacksw/handcal//NONSGML v1.0//EN
BEGIN:VEVENT
SUMMARY:Match championnat U11
UID:e7c5f584-f6d0-4e0e-950b-9568bf94f7c2
DTSTART:20260314T120000Z
DTEND:20260314T140000Z
LOCATION:Localisation   
CATEGORIES:Sportif
STATUS:
URL;VALUE=URI:https://fcbbg.sportsregions.fr/evenements/2026/03/14/match-championnat-u11-2429237
END:VEVENT
END:VCALENDAR
