BEGIN:VCALENDAR
VERSION:2.0
PRODID:-//hacksw/handcal//NONSGML v1.0//EN
BEGIN:VEVENT
SUMMARY:Match championnat U13 1
UID:3ef042d4-69d3-47ad-aa66-803089006687
DTSTART:20260314T130000Z
DTEND:20260314T150000Z
LOCATION:Localisation   
CATEGORIES:Sportif
STATUS:
URL;VALUE=URI:https://fcbbg.sportsregions.fr/evenements/2026/03/14/match-championnat-u13-1-2429238
END:VEVENT
END:VCALENDAR
