BEGIN:VCALENDAR
VERSION:2.0
PRODID:-//hacksw/handcal//NONSGML v1.0//EN
BEGIN:VEVENT
SUMMARY:Match championnat U13 2
UID:aa2ee1e8-f269-433a-ac80-6bcbd4f06b2a
DTSTART:20260314T150000Z
DTEND:20260314T170000Z
LOCATION:Localisation   
CATEGORIES:Sportif
STATUS:
URL;VALUE=URI:https://fcbbg.sportsregions.fr/evenements/2026/03/14/match-championnat-u13-2-2429239
END:VEVENT
END:VCALENDAR
