BEGIN:VCALENDAR
VERSION:2.0
PRODID:-//hacksw/handcal//NONSGML v1.0//EN
BEGIN:VEVENT
SUMMARY:Match championnat U15 1
UID:4f355d0b-340c-48ce-8ec5-00a513df6278
DTSTART:20260314T140000Z
DTEND:20260314T160000Z
LOCATION:Localisation   
CATEGORIES:Sportif
STATUS:
URL;VALUE=URI:https://fcbbg.sportsregions.fr/evenements/2026/03/14/match-championnat-u15-1-2429240
END:VEVENT
END:VCALENDAR
