BEGIN:VCALENDAR
VERSION:2.0
PRODID:-//hacksw/handcal//NONSGML v1.0//EN
BEGIN:VEVENT
SUMMARY:Match championnat U15 2
UID:d347ff62-649a-4428-a2bd-840a54ac9455
DTSTART:20260314T090000Z
DTEND:20260314T110000Z
LOCATION:Localisation   
CATEGORIES:Sportif
STATUS:
URL;VALUE=URI:https://fcbbg.sportsregions.fr/evenements/2026/03/14/match-championnat-u15-2-2429241
END:VEVENT
END:VCALENDAR
