BEGIN:VCALENDAR
VERSION:2.0
PRODID:-//hacksw/handcal//NONSGML v1.0//EN
BEGIN:VEVENT
SUMMARY:Match de championnat U17 1
UID:1d68d4ef-7253-4b2c-8b6b-2d7f3a48ee85
DTSTART:20260314T150000Z
DTEND:20260314T170000Z
LOCATION:Localisation   
CATEGORIES:Sportif
STATUS:
URL;VALUE=URI:https://fcbbg.sportsregions.fr/evenements/2026/03/14/match-de-championnat-u17-1-2429242
END:VEVENT
END:VCALENDAR
