BEGIN:VCALENDAR
VERSION:2.0
PRODID:-//hacksw/handcal//NONSGML v1.0//EN
BEGIN:VEVENT
SUMMARY:Match de championnat U17 2
UID:e3def98a-e6c9-46a1-a20d-a4973bd241f4
DTSTART:20260314T150000Z
DTEND:20260314T170000Z
LOCATION:Localisation   
CATEGORIES:Sportif
STATUS:
URL;VALUE=URI:https://fcbbg.sportsregions.fr/evenements/2026/03/14/match-de-championnat-u17-2-2429243
END:VEVENT
END:VCALENDAR
