BEGIN:VCALENDAR
VERSION:2.0
PRODID:-//hacksw/handcal//NONSGML v1.0//EN
BEGIN:VEVENT
SUMMARY:Match championnat U13 1
UID:0c916e26-5cd7-40ae-ad88-9944c0e7e79f
DTSTART:20260321T130000Z
DTEND:20260321T150000Z
LOCATION:Localisation   
CATEGORIES:Sportif
STATUS:
URL;VALUE=URI:https://fcbbg.sportsregions.fr/evenements/2026/03/21/match-championnat-u13-1-2431872
END:VEVENT
END:VCALENDAR
