BEGIN:VCALENDAR
VERSION:2.0
PRODID:-//hacksw/handcal//NONSGML v1.0//EN
BEGIN:VEVENT
SUMMARY:Match championnat U13 2
UID:43ff0133-5de3-4422-8bd9-83d92391c9c3
DTSTART:20260321T130000Z
DTEND:20260321T150000Z
LOCATION:Localisation   
CATEGORIES:Sportif
STATUS:
URL;VALUE=URI:https://fcbbg.sportsregions.fr/evenements/2026/03/21/match-championnat-u13-2-2431873
END:VEVENT
END:VCALENDAR
