BEGIN:VCALENDAR
VERSION:2.0
PRODID:-//hacksw/handcal//NONSGML v1.0//EN
BEGIN:VEVENT
SUMMARY:Match championnat U15 1
UID:f148665a-2edd-4250-83f5-0b56bb43884a
DTSTART:20260321T133000Z
DTEND:20260321T153000Z
LOCATION:Localisation   
CATEGORIES:Sportif
STATUS:
URL;VALUE=URI:https://fcbbg.sportsregions.fr/evenements/2026/03/21/match-championnat-u15-1-2431874
END:VEVENT
END:VCALENDAR
