BEGIN:VCALENDAR
VERSION:2.0
PRODID:-//hacksw/handcal//NONSGML v1.0//EN
BEGIN:VEVENT
SUMMARY:Match championnat U15 2
UID:0c72ded4-f3b6-47f3-afd2-f9232d89c67c
DTSTART:20260321T143000Z
DTEND:20260321T163000Z
LOCATION:Localisation   
CATEGORIES:Sportif
STATUS:
URL;VALUE=URI:https://fcbbg.sportsregions.fr/evenements/2026/03/21/match-championnat-u15-2-2431875
END:VEVENT
END:VCALENDAR
