BEGIN:VCALENDAR
VERSION:2.0
PRODID:-//hacksw/handcal//NONSGML v1.0//EN
BEGIN:VEVENT
SUMMARY:Match de championnat U17 1
UID:c7377c6b-845e-4c94-9e35-d75a07550e72
DTSTART:20260321T150000Z
DTEND:20260321T170000Z
LOCATION:Localisation   
CATEGORIES:Sportif
STATUS:
URL;VALUE=URI:https://fcbbg.sportsregions.fr/evenements/2026/03/21/match-de-championnat-u17-1-2431876
END:VEVENT
END:VCALENDAR
