BEGIN:VCALENDAR
VERSION:2.0
PRODID:-//hacksw/handcal//NONSGML v1.0//EN
BEGIN:VEVENT
SUMMARY:Match de championnat U17 2
UID:c4e96bd0-9b4c-49d0-8374-a6ddd5dbb3d4
DTSTART:20260321T143000Z
DTEND:20260321T163000Z
LOCATION:Localisation   
CATEGORIES:Sportif
STATUS:
URL;VALUE=URI:https://fcbbg.sportsregions.fr/evenements/2026/03/21/match-de-championnat-u17-2-2431877
END:VEVENT
END:VCALENDAR
