BEGIN:VCALENDAR
VERSION:2.0
PRODID:-//hacksw/handcal//NONSGML v1.0//EN
BEGIN:VEVENT
SUMMARY:Plateau U9
UID:0539327d-a016-4a1b-9462-bfc8170171af
DTSTART:20260328T090000Z
DTEND:20260328T110000Z
LOCATION:Localisation   
CATEGORIES:Sportif
STATUS:
URL;VALUE=URI:https://fcbbg.sportsregions.fr/evenements/2026/03/28/plateau-u9-2433434
END:VEVENT
END:VCALENDAR
