BEGIN:VCALENDAR
VERSION:2.0
PRODID:-//hacksw/handcal//NONSGML v1.0//EN
BEGIN:VEVENT
SUMMARY:Match de championnat U19
UID:6cf51a77-732e-48a8-a3fa-361153868d10
DTSTART:20260329T120000Z
DTEND:20260329T140000Z
LOCATION:Localisation   
CATEGORIES:Sportif
STATUS:
URL;VALUE=URI:https://fcbbg.sportsregions.fr/evenements/2026/03/29/match-de-championnat-u19-2433436
END:VEVENT
END:VCALENDAR
