BEGIN:VCALENDAR
VERSION:2.0
PRODID:-//hacksw/handcal//NONSGML v1.0//EN
BEGIN:VEVENT
SUMMARY:Match de championnat U17 2
UID:64f30e71-7cd8-440a-b4cf-ed499e771964
DTSTART:20260411T140000Z
DTEND:20260411T160000Z
LOCATION:Localisation   
CATEGORIES:Sportif
STATUS:
URL;VALUE=URI:https://fcbbg.sportsregions.fr/evenements/2026/04/11/match-de-championnat-u17-2-2439813
END:VEVENT
END:VCALENDAR
